BEGIN:VCALENDAR
VERSION:2.0
PRODID:icalendar-ruby
CALSCALE:GREGORIAN
METHOD:PUBLISH
BEGIN:VEVENT
DTSTAMP:20260422T011330Z
UID:109-1016520@freedomofdundalk.com
DTSTART:20261014T130000Z
DTEND:20261014T140000Z
CLASS:PUBLIC
CREATED:20260421T195013
DESCRIPTION: MEN—THIS ONE'S FOR YOU!Start your Wednesday the right way.\n
  Men’s Prayer Meeting 6500 St. Helena Ave Every Wednesday at 9:00 AM\nTh
 ere’s something powerful about men gathering together to seek the Lord. 
 No stage. No spotlight. Just humble hearts\, honest prayers\, and a hunger
  for God to move.\n Whether you're carrying a burden or just need a midwee
 k spiritual boost—come be part of it.\nTag a brother. Bring a friend. Le
 t’s shake heaven together.\n#MensPrayer #WednesdaysInPrayer #6500StHelen
 a #FreedomFaith #MenWhoPray
LAST-MODIFIED:20260421T195013
LOCATION:6500 St. Helena Ave\, Dundalk\, MD 21222
SUMMARY:Men's Prayer Meeting - Weekly 
URL;VALUE=URI:https://freedomofdundalk.com/events/mens-prayer-meeting-weekl
 y/2026-10-14
ATTACH;FILENAME=Men%27s-Prayer-meeting-presentation.png;FMTTYPE=image/png:h
 ttps://dq5pwpg1q8ru0.cloudfront.net/2025/07/01/18/36/17/9ff90e97-cf32-49e7
 -a717-4b82a41e26c7/Men%2527s-Prayer-meeting-presentation.png
END:VEVENT
END:VCALENDAR
